BEGIN:VCALENDAR
VERSION:2.0
PRODID:-//Historic Annapolis - ECPv6.15.20//NONSGML v1.0//EN
CALSCALE:GREGORIAN
METHOD:PUBLISH
X-WR-CALNAME:Historic Annapolis
X-ORIGINAL-URL:https://www.annapolis.org
X-WR-CALDESC:Events for Historic Annapolis
REFRESH-INTERVAL;VALUE=DURATION:PT1H
X-Robots-Tag:noindex
X-PUBLISHED-TTL:PT1H
BEGIN:VTIMEZONE
TZID:America/New_York
BEGIN:DAYLIGHT
TZOFFSETFROM:-0500
TZOFFSETTO:-0400
TZNAME:EDT
DTSTART:20250309T070000
END:DAYLIGHT
BEGIN:STANDARD
TZOFFSETFROM:-0400
TZOFFSETTO:-0500
TZNAME:EST
DTSTART:20251102T060000
END:STANDARD
BEGIN:DAYLIGHT
TZOFFSETFROM:-0500
TZOFFSETTO:-0400
TZNAME:EDT
DTSTART:20260308T070000
END:DAYLIGHT
BEGIN:STANDARD
TZOFFSETFROM:-0400
TZOFFSETTO:-0500
TZNAME:EST
DTSTART:20261101T060000
END:STANDARD
BEGIN:DAYLIGHT
TZOFFSETFROM:-0500
TZOFFSETTO:-0400
TZNAME:EDT
DTSTART:20270314T070000
END:DAYLIGHT
BEGIN:STANDARD
TZOFFSETFROM:-0400
TZOFFSETTO:-0500
TZNAME:EST
DTSTART:20271107T060000
END:STANDARD
END:VTIMEZONE
BEGIN:VEVENT
DTSTART;TZID=America/New_York:20260317T100000
DTEND;TZID=America/New_York:20260317T110000
DTSTAMP:20260422T123006
CREATED:20260211T220459Z
LAST-MODIFIED:20260311T172226Z
UID:10000345-1773741600-1773745200@www.annapolis.org
SUMMARY:Mr. Paca’s Garden Storytime: It’s Not Easy Being a Leprechaun
DESCRIPTION:Mr. Paca’s Garden Storytime is a fun hour full of reading and activities in the William Paca Garden\, a secret treasure in the Historic District of Annapolis. Each program is designed for little ones\, 3-7 years\, with a book reading\, song\, and craft/art project\, plus time to explore the Paca Garden following the story hour. \nIt’s Not Easy Being a Leprechaun by Marilyn Sadler\nLife isn’t always easy–even for a leprechaun! Connor O’Connor\, an unhappy leprechaun who thinks he can’t make friends because he looks a little different\, finds happiness by being himself and doing good. The perfect way to celebrate St. Patrick’s Day with little lads and lassies! \nJoin us in celebrating St Patrick’s Day with a song\, a craft\, and a garden scavenger hunt! \nAdvance registration required\, space is limited. \nCost: $10 per Child and $5 per Adult for General Admission; $8 per Child and Free for Adults for HA Members and Military \n \n  \n Please Note: Children must be accompanied by an adult for the entirety of the program; garden time is not supervised by staff. Activities are held outdoors on the tented terrace at the William Paca House & Garden when possible. In the event of inclement weather\, the activities will be held inside in our conference room. This program does not include snacks due to food allergies; food is not permitted in the garden. \n\nAccessibility: Visitors with limited mobility can access this program via the driveway of the Paca House. A single use accessible restroom can be accessed by a ramp. KultureCity® Sensory Bags are available for visitors with sensory sensitivities or challenges with sensory regulation. \nCancellation and Refund Policy: Historic Annapolis reserves the right to cancel or alter any programs. Unless otherwise stated\, all tickets are non-refundable. \nPhotography Policy: Historic Annapolis reserves the right to take photographs and video footage of people of all ages at Historic Annapolis-sponsored events for publicity. If you do not wish to be photographed or filmed\, please opt out by notifying Historic Annapolis staff.
URL:https://www.annapolis.org/event/storytime-march2026-2/
LOCATION:William Paca House & Garden\, 186 Prince George St\, Annapolis\, MD\, 21401\, United States
CATEGORIES:For Kids,William Paca House & Garden
ATTACH;FMTTYPE=image/jpeg:https://www.annapolis.org/wp-content/uploads/2025/05/20181120_105957-scaled.jpg
END:VEVENT
END:VCALENDAR