BEGIN:VCALENDAR
VERSION:2.0
PRODID:-//Historic Annapolis - ECPv6.15.20//NONSGML v1.0//EN
CALSCALE:GREGORIAN
METHOD:PUBLISH
X-WR-CALNAME:Historic Annapolis
X-ORIGINAL-URL:https://www.annapolis.org
X-WR-CALDESC:Events for Historic Annapolis
REFRESH-INTERVAL;VALUE=DURATION:PT1H
X-Robots-Tag:noindex
X-PUBLISHED-TTL:PT1H
BEGIN:VTIMEZONE
TZID:America/New_York
BEGIN:DAYLIGHT
TZOFFSETFROM:-0500
TZOFFSETTO:-0400
TZNAME:EDT
DTSTART:20250309T070000
END:DAYLIGHT
BEGIN:STANDARD
TZOFFSETFROM:-0400
TZOFFSETTO:-0500
TZNAME:EST
DTSTART:20251102T060000
END:STANDARD
BEGIN:DAYLIGHT
TZOFFSETFROM:-0500
TZOFFSETTO:-0400
TZNAME:EDT
DTSTART:20260308T070000
END:DAYLIGHT
BEGIN:STANDARD
TZOFFSETFROM:-0400
TZOFFSETTO:-0500
TZNAME:EST
DTSTART:20261101T060000
END:STANDARD
BEGIN:DAYLIGHT
TZOFFSETFROM:-0500
TZOFFSETTO:-0400
TZNAME:EDT
DTSTART:20270314T070000
END:DAYLIGHT
BEGIN:STANDARD
TZOFFSETFROM:-0400
TZOFFSETTO:-0500
TZNAME:EST
DTSTART:20271107T060000
END:STANDARD
END:VTIMEZONE
BEGIN:VEVENT
DTSTART;TZID=America/New_York:20260426T130000
DTEND;TZID=America/New_York:20260426T143000
DTSTAMP:20260422T104308
CREATED:20250515T155921Z
LAST-MODIFIED:20260311T190852Z
UID:10000082-1777208400-1777213800@www.annapolis.org
SUMMARY:Pollinator-Friendly Gardening Workshop with Homestead Gardens
DESCRIPTION:Join us for a special Spring afternoon workshop on the Paca House Terrace\, presented in partnership with our friends at Homestead Gardens. \nPollinators such as bees and butterflies play a vital role in our ecosystems and food supply\, but they need our help!    \nAt this workshop\, a Homestead Gardens expert will discuss pollinator-friendly gardening and simple ways anyone can support local pollinators\, even with limited space. Learn how to choose pollinator-friendly plants and easy gardening tips for balconies\, porches\, patios\, and small yards.  \nParticipants will create their own Bee & Butterfly Starter Garden Porch Pot to take home\, along with a Guide to Growing Pollinator Friendly Gardens and a coupon for Homestead Gardens.  \nAdvance registration required\, space is limited. Recommended for ages 13+. \nCost: $35 for General Admission (13+); $25 for HA Members\, HA Volunteers\, and Military \n \nNot an HA member? Become one today! \n\nAccessibility Considerations: This event takes place in the William Paca Garden on our tented\, brick terrace. Entry to the Paca Garden includes wooden steps or our brick driveway ramp. The upper portion of the Paca Garden can be accessed via a brick ramp with handrails. The pathways are loose pea gravel. The lower garden levels are accessed by wooden or stone steps. An indoor\, single-use accessible restroom can be accessed via a ramp. KultureCity® Sensory Bags are available for visitors with sensory sensitivities or challenges with sensory regulation. \nCancellation and Refund Policy: Historic Annapolis reserves the right to cancel or alter any programs. Unless otherwise stated\, all tickets are non-refundable. \nPhotography Policy: Historic Annapolis reserves the right to take photographs and video footage of people of all ages at Historic Annapolis-sponsored events for publicity. If you do not wish to be photographed or filmed\, please opt out by notifying Historic Annapolis staff.
URL:https://www.annapolis.org/event/garden-workshop2026/
LOCATION:William Paca House & Garden\, 186 Prince George St\, Annapolis\, MD\, 21401\, United States
CATEGORIES:William Paca House & Garden,Workshop
ATTACH;FMTTYPE=image/jpeg:https://www.annapolis.org/wp-content/uploads/2025/05/Herb-Workshop-April-2024-3.jpg
END:VEVENT
END:VCALENDAR