BEGIN:VCALENDAR
VERSION:2.0
PRODID:-//Historic Annapolis - ECPv6.15.20//NONSGML v1.0//EN
CALSCALE:GREGORIAN
METHOD:PUBLISH
X-WR-CALNAME:Historic Annapolis
X-ORIGINAL-URL:https://www.annapolis.org
X-WR-CALDESC:Events for Historic Annapolis
REFRESH-INTERVAL;VALUE=DURATION:PT1H
X-Robots-Tag:noindex
X-PUBLISHED-TTL:PT1H
BEGIN:VTIMEZONE
TZID:America/New_York
BEGIN:DAYLIGHT
TZOFFSETFROM:-0500
TZOFFSETTO:-0400
TZNAME:EDT
DTSTART:20250309T070000
END:DAYLIGHT
BEGIN:STANDARD
TZOFFSETFROM:-0400
TZOFFSETTO:-0500
TZNAME:EST
DTSTART:20251102T060000
END:STANDARD
BEGIN:DAYLIGHT
TZOFFSETFROM:-0500
TZOFFSETTO:-0400
TZNAME:EDT
DTSTART:20260308T070000
END:DAYLIGHT
BEGIN:STANDARD
TZOFFSETFROM:-0400
TZOFFSETTO:-0500
TZNAME:EST
DTSTART:20261101T060000
END:STANDARD
BEGIN:DAYLIGHT
TZOFFSETFROM:-0500
TZOFFSETTO:-0400
TZNAME:EDT
DTSTART:20270314T070000
END:DAYLIGHT
BEGIN:STANDARD
TZOFFSETFROM:-0400
TZOFFSETTO:-0500
TZNAME:EST
DTSTART:20271107T060000
END:STANDARD
END:VTIMEZONE
BEGIN:VEVENT
DTSTART;TZID=America/New_York:20260210T190000
DTEND;TZID=America/New_York:20260210T203000
DTSTAMP:20260422T110053
CREATED:20251222T210301Z
LAST-MODIFIED:20260105T183129Z
UID:10000325-1770750000-1770755400@www.annapolis.org
SUMMARY:Virtual Lecture - “To Feel the Happiness of Liberty”: Celebrating “Making” and 250 Years of African American Material Culture
DESCRIPTION:The Founding Fathers’ cries for liberty from tyranny and oppression resonated with African Americans and were embraced by Black craftspeople\, both free and enslaved. This talk highlights the profound contributions of African American material culture in the enduring pursuit of freedom. It serves as the culmination of the DAR Museum’s 2025 exhibition and the accompanying catalogue\, “Fighting for Freedom: Black Craftspeople and the Pursuit of Independence.” \nIn his lecture\, Dr. Torren Gatson examines how the ideology of “making” fueled the success of African American craftspeople while simultaneously shaping and reframing the very foundations of American identity. \nThe Historic Annapolis Virtual Lecture Series is offered free of charge thanks to the generosity of an anonymous donor. If you enjoy this program\, we hope you will consider becoming a member or making a donation today to support Historic Annapolis and our mission to connect all people with our shared history.  \nCan’t watch live? All lectures will be recorded. Please register and you’ll receive the link to watch the recording after the event. \nAdvance registration required; registration closes on half-hour prior to lecture.  \nCost: FREE \n \nThis lecture will be offered virtually by Zoom. Upon registration\, you will be sent the link for the video conference to join on the evening of the lecture. If you do not receive your confirmation email after you register\, please check your Spam folder\, or email Cara Garside at cara.garside@annapolis.org. To learn more about Zoom and to download the app to your computer\, visit the Zoom website. \n  \nAbout Our Presenter: Dr. Torren Gatson is Associate Professor of History and Associate Director for the Center for Historic Preservation at Middle Tennessee University (MTSU). Dr. Gatson is a public historian and scholar of U.S. Southern history\, specializing in 19th- and 20th-century African American built environments and material culture. A dedicated historic preservationist\, he collaborates with communities to create public-facing projects that confront and illuminate the complexities of African American history. \nHis work has appeared in leading academic journals including The Journal of Southern History\, The Southern Quarterly\, and The North Carolina Historical Review. He is the author of Fighting for Freedom: Black Craftspeople and the Pursuit of Independence (UNC Press\, 2025)\, and a contributor to Teaching Public History (UNC Press\, 2023) and Fashioning America: Grit to Glamor (University of Arkansas Press\, 2022). \nGatson is Co-Director of the Black Craftspeople Digital Archive\, the premier resource on Black artisans in America\, which has documented over 10\,000 individuals nationwide. His nationally recognized exhibition\, Fighting for Freedom\, debuted at the DAR Museum and is traveling to five institutions across the country. He serves on several boards in the fields of material culture and history\, including the Winterthur Portfolio Editorial Board\, Old Salem Museums & Gardens\, Historic Magnolia House Foundation\, the Decorative Arts Trust\, and People Not Property. \n\nThe information contained in the HA Virtual Lecture series represents the historical research\, views and opinions of the lecture presenter and may not represent the views or opinions of Historic Annapolis\, Inc.
URL:https://www.annapolis.org/event/virtual-lecture-happiness-of-liberty/
LOCATION:Virtual Event\, Zoom Virtual Lecture
CATEGORIES:America250,Lectures,Virtual Event
ATTACH;FMTTYPE=image/jpeg:https://www.annapolis.org/wp-content/uploads/2025/12/20260210VLSTorrenGatson_Headshot-leaning-on-cement-scaled-e1766437268261.jpg
END:VEVENT
BEGIN:VEVENT
DTSTART;TZID=America/New_York:20260211T120000
DTEND;TZID=America/New_York:20260211T180000
DTSTAMP:20260422T110053
CREATED:20250515T160421Z
LAST-MODIFIED:20251212T194707Z
UID:10000110-1770811200-1770832800@www.annapolis.org
SUMMARY:New Volunteer Open House
DESCRIPTION:Join Historic Annapolis for a Volunteer Open House! Meet current Historic Annapolis volunteers and staff\, explore roles that match your interests and skills\, and discover how you can make a real impact in your own community. \nMore than 100 volunteers contribute over 9\,000 hours each year to support our historic sites and mission. From museum docents and garden helpers to event support and public programs\, HA relies on dedicated volunteers. \nOur volunteers are the heart of HA—their enthusiasm and commitment strengthen our connection to visitors and to Annapolis itself. If you’re passionate about history\, gardening\, or lifelong learning\, we have meaningful opportunities for you. \nWith the growth of the Museum of Historic Annapolis and expanded tours and field trips\, we’re excited to welcome new volunteers to help us serve our community. Volunteers are needed in a variety of positions: Paca House Docents\, Garden Volunteers\, Education Program Volunteers\, and Special Event Volunteers. Come to learn more! \nRegistration not required. There is no cost to attend. \nUnable to attend but still want to volunteer? Explore our website to learn more and submit a volunteer inquiry. \nQuestions? Contact Katie Turer at katie.turer@annapolis.org
URL:https://www.annapolis.org/event/volunteer-open-house2026/
LOCATION:William Paca House & Garden\, 186 Prince George St\, Annapolis\, MD\, 21401\, United States
CATEGORIES:William Paca House & Garden
ATTACH;FMTTYPE=image/jpeg:https://www.annapolis.org/wp-content/uploads/2025/05/20260211-Volunteer-Open-House2-scaled-e1765568733732.jpg
END:VEVENT
BEGIN:VEVENT
DTSTART;TZID=America/New_York:20260212T140000
DTEND;TZID=America/New_York:20260212T150000
DTSTAMP:20260422T110053
CREATED:20251223T181624Z
LAST-MODIFIED:20260128T182707Z
UID:10000326-1770904800-1770908400@www.annapolis.org
SUMMARY:SOLD OUT - Sanborn Map Workshop
DESCRIPTION:This event is now sold out. Thank you for your interest! We hope to offer this workshop again in the future. \n\nDo you LOVE maps\, buildings\, and history? So do we! \nHistorians\, preservationists\, and planners often turn to the a resource that was never meant to have such lasting value: Sanborn Fire Insurance Maps. Created from the 1850s through the 1950s to support fire insurance underwriting\, these detailed maps have become indispensable for tracing changes to buildings and understanding how cities and towns evolved over time.  \nRachel Robinson\, HA’s Vice President of Preservation\, will provide an introduction and lead a hands-on tutorial on using Sanborn maps. Rachel will guide you through the seven map sets available for Annapolis (1885–1921)\, explain how to interpret the symbols and color codes with the Sanborn key\, and show you how to explore maps from other communities across the country.  \nWe invite you to come enjoy hot cocoa and cookies as you dive into this pre–Valentine’s Day workshop! \nAdvance registration required. \nCost: $15 General Admission; $10 for Military; Free for HA Members & Volunteers \n \n\nAbout Our Presenter: Rachel Robinson is the Vice President of Preservation at Historic Annapolis. Previously\, she served as director of preservation at Providence Preservation Society and executive director of the Vieux Carré Commission Foundation and Felicity Redevelopment Inc.\, both located in New Orleans. Rachel\, a Chattanooga\, Tennessee native\, holds a master’s degree in urban and environmental planning and a certificate in historic preservation from the University of Virginia and a master’s degree in historical and sustainable architecture from New York University—London. She is on the national board of Preservation Action\, the national grassroots lobby for historic preservation—of which HA was a founding member.  \n  \n\nAccessibility: Visitors with limited mobility can access this program via the driveway of the Paca House. A single use accessible restroom can be accessed by a ramp. \nCancellation and Refund Policy: Historic Annapolis reserves the right to cancel or alter any programs. Unless otherwise stated\, all tickets are non-refundable. \nPhotography Policy: Historic Annapolis reserves the right to take photographs and video footage of people of all ages at Historic Annapolis-sponsored events for publicity. If you do not wish to be photographed or filmed\, please opt out by notifying Historic Annapolis staff.
URL:https://www.annapolis.org/event/sanborn-map-workshop/
LOCATION:William Paca House & Garden\, 186 Prince George St\, Annapolis\, MD\, 21401\, United States
CATEGORIES:William Paca House & Garden,Workshop
ATTACH;FMTTYPE=image/png:https://www.annapolis.org/wp-content/uploads/2025/12/20260212Sanborn1-e1766513740681.png
END:VEVENT
END:VCALENDAR