BEGIN:VCALENDAR
VERSION:2.0
PRODID:-//Historic Annapolis - ECPv6.15.20//NONSGML v1.0//EN
CALSCALE:GREGORIAN
METHOD:PUBLISH
X-WR-CALNAME:Historic Annapolis
X-ORIGINAL-URL:https://www.annapolis.org
X-WR-CALDESC:Events for Historic Annapolis
REFRESH-INTERVAL;VALUE=DURATION:PT1H
X-Robots-Tag:noindex
X-PUBLISHED-TTL:PT1H
BEGIN:VTIMEZONE
TZID:America/New_York
BEGIN:DAYLIGHT
TZOFFSETFROM:-0500
TZOFFSETTO:-0400
TZNAME:EDT
DTSTART:20250309T070000
END:DAYLIGHT
BEGIN:STANDARD
TZOFFSETFROM:-0400
TZOFFSETTO:-0500
TZNAME:EST
DTSTART:20251102T060000
END:STANDARD
BEGIN:DAYLIGHT
TZOFFSETFROM:-0500
TZOFFSETTO:-0400
TZNAME:EDT
DTSTART:20260308T070000
END:DAYLIGHT
BEGIN:STANDARD
TZOFFSETFROM:-0400
TZOFFSETTO:-0500
TZNAME:EST
DTSTART:20261101T060000
END:STANDARD
BEGIN:DAYLIGHT
TZOFFSETFROM:-0500
TZOFFSETTO:-0400
TZNAME:EDT
DTSTART:20270314T070000
END:DAYLIGHT
BEGIN:STANDARD
TZOFFSETFROM:-0400
TZOFFSETTO:-0500
TZNAME:EST
DTSTART:20271107T060000
END:STANDARD
END:VTIMEZONE
BEGIN:VEVENT
DTSTART;TZID=America/New_York:20260509T100000
DTEND;TZID=America/New_York:20260509T160000
DTSTAMP:20260422T104052
CREATED:20250515T160521Z
LAST-MODIFIED:20260416T190718Z
UID:10000114-1778320800-1778342400@www.annapolis.org
SUMMARY:William Paca Garden Plant Sale
DESCRIPTION:A tradition for over 50 years\, the William Paca Garden Plant Sale provides the opportunity to take home a piece of history. HA volunteers personally raise over 8\,000 plants – perennials\, annuals\, trees\, vines\, and vegetable starts – that represent the best of the old and the new. \n \nCertified as a Maryland’s Best Native Plants retailer\, HA is proud to be recognized by the Maryland Department of Agriculture as a retailer offering at least 20 percent of its plants that are native to our state. If you are keen to support bees\, butterflies\, hummingbirds\, and other native wildlife in your garden\, you will find plants that delight them here. \nStaff and volunteers are on hand to answer your gardening questions. Proceeds of this beloved annual tradition support the mission and programs of the William Paca House & Garden and Historic Annapolis. \nRegistration not required. The Plant Sale is held rain or shine. Pets are not permitted at the event.  \nCost: Admission to the plant sale is free\, as is access to the Paca Garden during the plant sale! Every plant purchase directly supports our programs and operations\, including the care and maintenance of our historic garden. \nTime:  \n\nSaturday\, May 9\, 10:00am – 4:00pm (HA Members get early access at 9:30am plus a 10% discount!)\nSunday\, May 10\, 12:00pm – 4:00pm\n\nEntry Location: \n\nSaturday\, enter at 186 Prince George Street\nSunday\, enter at 3 Martin Street\n\n\nNot a member? It’s not too late to join!\nHA members receive special perks at the Plant Sale\, such as early entry to the sale on Saturday at 9:30 am\, and a 10% discount! Tax-deductible memberships begin at just $50. Your support is essential to our success and helps us fulfill our mission to Preserve. Protect. Connect. Click here to learn more about our membership levels and to join today. \n\n  \nPlease Note: Public parking is not available at the William Paca Garden. Street parking surrounding our sites is mostly residential\, but offers two-hour paid parking for guests (starts at $4/hour). Street parking requires the use of the Parkmobile app. The Calvert Street Garage (located at 19 St. John’s Street) is free on weekends and is about a 10 minute walk from the Paca Garden. The Plant Sale will include a holding area so you will be able to retrieve your car and drive back to pick up your plants.  \nVisit annapolisparking.com for the additional information on getting around and parking in downtown Annapolis. 
URL:https://www.annapolis.org/event/plant-sale2026/
LOCATION:William Paca House & Garden\, 186 Prince George St\, Annapolis\, MD\, 21401\, United States
CATEGORIES:Fundraiser,William Paca House & Garden
ATTACH;FMTTYPE=image/jpeg:https://www.annapolis.org/wp-content/uploads/2025/05/Garden-Volunteers-2018-reduced-scaled-e1763054023805.jpg
END:VEVENT
BEGIN:VEVENT
DTSTART;TZID=America/New_York:20260510T120000
DTEND;TZID=America/New_York:20260510T160000
DTSTAMP:20260422T104052
CREATED:20250515T154731Z
LAST-MODIFIED:20260416T190716Z
UID:10000032-1778414400-1778428800@www.annapolis.org
SUMMARY:William Paca Garden Plant Sale
DESCRIPTION:A tradition for over 50 years\, the William Paca Garden Plant Sale provides the opportunity to take home a piece of history. HA volunteers personally raise over 8\,000 plants – perennials\, annuals\, trees\, vines\, and vegetable starts – that represent the best of the old and the new. \n \nCertified as a Maryland’s Best Native Plants retailer\, HA is proud to be recognized by the Maryland Department of Agriculture as a retailer offering at least 20 percent of its plants that are native to our state. If you are keen to support bees\, butterflies\, hummingbirds\, and other native wildlife in your garden\, you will find plants that delight them here. \nStaff and volunteers are on hand to answer your gardening questions. Proceeds of this beloved annual tradition support the mission and programs of the William Paca House & Garden and Historic Annapolis. \nRegistration not required. The Plant Sale is held rain or shine. Pets are not permitted at the event.  \nCost: Admission to the plant sale is free\, as is access to the Paca Garden during the plant sale! Every plant purchase directly supports our programs and operations\, including the care and maintenance of our historic garden. \nTime:  \n\nSaturday\, May 9\, 10:00am – 4:00pm (HA Members get early access at 9:30am plus a 10% discount!)\nSunday\, May 10\, 12:00pm – 4:00pm\n\nEntry Location: \n\nSaturday\, enter at 186 Prince George Street\nSunday\, enter at 3 Martin Street\n\n\nBecome A Member\nHA members receive special perks at the Plant Sale\, such as early entry to the sale on Saturday at 9:30 am\, and a 10% discount! Tax-deductible memberships begin at just $50. Your support is essential to our success and helps us fulfill our mission to Preserve . Protect . Connect. Click here to learn more about our membership levels and to join today. \n\n  \nPlease Note: Public parking is not available at the William Paca Garden. Street parking surrounding our sites is mostly residential\, but offers two-hour paid parking for guests (starts at $4/hour). Street parking requires the use of the Parkmobile app. The Calvert Street Garage (located at 19 St. John’s Street) is free on weekends and is about a 10 minute walk from the Paca Garden. The Plant Sale will include a holding area so you will be able to retrieve your car and drive back to pick up your plants.  \nVisit annapolisparking.com for the additional information on getting around and parking in downtown Annapolis. 
URL:https://www.annapolis.org/event/plant-sale2026-sun/
LOCATION:William Paca House & Garden\, 186 Prince George St\, Annapolis\, MD\, 21401\, United States
CATEGORIES:Fundraiser,William Paca House & Garden
ATTACH;FMTTYPE=image/jpeg:https://www.annapolis.org/wp-content/uploads/2025/08/WPHG-Gallery-2025-scaled-e1776717242157.jpg
END:VEVENT
BEGIN:VEVENT
DTSTART;TZID=America/New_York:20260516T100000
DTEND;TZID=America/New_York:20260516T110000
DTSTAMP:20260422T104052
CREATED:20260212T232326Z
LAST-MODIFIED:20260311T170240Z
UID:10000349-1778925600-1778929200@www.annapolis.org
SUMMARY:Mr. Paca’s Garden Storytime: Mommy Time
DESCRIPTION:Mr. Paca’s Garden Storytime is a fun hour full of reading and activities in the William Paca Garden\, a secret treasure in the Historic District of Annapolis. Each program is designed for little ones\, 3-7 years\, with a book reading\, song\, and craft/art project\, plus time to explore the Paca Garden following the story hour. \nMommy Time by Monique James-Duncan\nRollicking rhyme and playful illustrations record a day in the life of two rambunctious children and their stay-at-home mother. As fun as it is being a kid\, it can be hard work being a mom. When Dad heads to his job\, the joyful chaos of getting ready for the day begins. To the children\, that day is a happy blur of school and playdates\, singing and dancing\, supermarket walks and library stops\, bath time\, story time\, bedtime. But Mommy’s time is filled with a whole lot more sweeping\, laundry\, stinky diapers—tiring work achieved with love in her eyes and care in her smiles. An authentic catalog of precious moments in the life of an ordinary family\, this warm\, revealing story builds a bridge of empathy between parent and child and celebrates the value of “Mommy time.” \nCelebrate Mother’s Day in the garden! Join us for a song and a unique craft! \nAdvance registration required\, space is limited. \nCost: $10 per Child and $5 per Adult for General Admission; $8 per Child and Free for Adults for HA Members and Military \n \nThis program will also be held on Tuesday\, May 19. \nPlease Note: An adult must accompany their child(ren) for the entirety of the program; garden time is not supervised by staff. Activities are held outdoors on the tented terrace at the William Paca House & Garden when possible. In the event of inclement weather\, the activities will be held inside in our conference room. This program does not include snacks due to food allergies; food is not permitted in the garden. \n\nAccessibility: Visitors with limited mobility can access this program via the driveway of the Paca House. A single use accessible restroom can be accessed by a ramp. KultureCity® Sensory Bags are available for visitors with sensory sensitivities or challenges with sensory regulation. \nCancellation and Refund Policy: Historic Annapolis reserves the right to cancel or alter any programs. Unless otherwise stated\, all tickets are non-refundable. \nPhotography Policy: Historic Annapolis reserves the right to take photographs and video footage of people of all ages at Historic Annapolis-sponsored events for publicity. If you do not wish to be photographed or filmed\, please opt out by notifying Historic Annapolis staff.
URL:https://www.annapolis.org/event/storytime-may2026/
LOCATION:William Paca House & Garden\, 186 Prince George St\, Annapolis\, MD\, 21401\, United States
CATEGORIES:For Kids,William Paca House & Garden
ATTACH;FMTTYPE=image/jpeg:https://www.annapolis.org/wp-content/uploads/2025/05/20181120_105957-scaled.jpg
END:VEVENT
BEGIN:VEVENT
DTSTART;TZID=America/New_York:20260517T120000
DTEND;TZID=America/New_York:20260517T150000
DTSTAMP:20260422T104052
CREATED:20250518T201002Z
LAST-MODIFIED:20260311T180447Z
UID:10000167-1779019200-1779030000@www.annapolis.org
SUMMARY:Colonial Garden Party
DESCRIPTION:Drop in and visit the Paca Garden\, a charming respite in the heart of bustling Annapolis. On this day\, you’ll encounter the colonial gentry of Annapolis enjoying a garden party at the Summer House\, portrayed by the Annapolis Living Historians. \nInteract with finely-dressed ladies and gentlemen as they delight in this idyllic garden setting. \nAdvance registration recommended; program included with admission to the Paca Garden. Please Note: This event is a living history program; food is not included\, and outside food is not permitted.  \nGeneral Admission: $5 General Admission (3+); Free for HA Members and Children under 3 \n \nAbout Our Presenters: The Annapolis Living Historians are a group of dedicated\, highly researched\, historically accurate living historians who interpret people of the past. They bring the colonial era to life in the William Paca House and other historical sites. \n\nAccessibility Considerations: This event takes place in the William Paca Garden. Entry to the Paca Garden includes wooden steps or our brick driveway ramp. The upper portion of the Paca Garden can be accessed via a brick ramp with handrails. The pathways are loose pea gravel. The lower garden levels are accessed by wooden or stone steps. An indoor\, single-use accessible restroom can be accessed via a ramp. KultureCity® Sensory Bags are available for visitors with sensory sensitivities or challenges with sensory regulation. \nCancellation and Refund Policy: Historic Annapolis reserves the right to cancel or alter any programs. Unless otherwise stated\, all tickets are non-refundable. \nPhotography Policy: Historic Annapolis reserves the right to take photographs and video footage of people of all ages at Historic Annapolis-sponsored events for publicity. If you do not wish to be photographed or filmed\, please opt out by notifying Historic Annapolis staff.
URL:https://www.annapolis.org/event/colonial-garden-party/
LOCATION:William Paca House & Garden\, 186 Prince George St\, Annapolis\, MD\, 21401\, United States
CATEGORIES:Living History,William Paca House & Garden
ATTACH;FMTTYPE=image/jpeg:https://www.annapolis.org/wp-content/uploads/2025/02/20250518GardenParty3.jpg
END:VEVENT
BEGIN:VEVENT
DTSTART;TZID=America/New_York:20260519T100000
DTEND;TZID=America/New_York:20260519T110000
DTSTAMP:20260422T104052
CREATED:20260212T232429Z
LAST-MODIFIED:20260311T170037Z
UID:10000350-1779184800-1779188400@www.annapolis.org
SUMMARY:Mr. Paca’s Garden Storytime: Mommy Time
DESCRIPTION:Mr. Paca’s Garden Storytime is a fun hour full of reading and activities in the William Paca Garden\, a secret treasure in the Historic District of Annapolis. Each program is designed for little ones\, 3-7 years\, with a book reading\, song\, and craft/art project\, plus time to explore the Paca Garden following the story hour. \nMommy Time by Monique James-Duncan\nRollicking rhyme and playful illustrations record a day in the life of two rambunctious children and their stay-at-home mother. As fun as it is being a kid\, it can be hard work being a mom. When Dad heads to his job\, the joyful chaos of getting ready for the day begins. To the children\, that day is a happy blur of school and playdates\, singing and dancing\, supermarket walks and library stops\, bath time\, story time\, bedtime. But Mommy’s time is filled with a whole lot more sweeping\, laundry\, stinky diapers—tiring work achieved with love in her eyes and care in her smiles. An authentic catalog of precious moments in the life of an ordinary family\, this warm\, revealing story builds a bridge of empathy between parent and child and celebrates the value of “Mommy time.” \nCelebrate Mother’s Day in the garden! Join us for a song and a unique craft! \nAdvance registration required\, space is limited. \nCost: $10 per Child and $5 per Adult for General Admission; $8 per Child and Free for Adults for HA Members and Military \n \n  \nPlease Note: An adult must accompany their child(ren) for the entirety of the program; garden time is not supervised by staff. Activities are held outdoors on the tented terrace at the William Paca House & Garden when possible. In the event of inclement weather\, the activities will be held inside in our conference room. This program does not include snacks due to food allergies; food is not permitted in the garden. \n\nAccessibility: Visitors with limited mobility can access this program via the driveway of the Paca House. A single use accessible restroom can be accessed by a ramp. KultureCity® Sensory Bags are available for visitors with sensory sensitivities or challenges with sensory regulation. \nCancellation and Refund Policy: Historic Annapolis reserves the right to cancel or alter any programs. Unless otherwise stated\, all tickets are non-refundable. \nPhotography Policy: Historic Annapolis reserves the right to take photographs and video footage of people of all ages at Historic Annapolis-sponsored events for publicity. If you do not wish to be photographed or filmed\, please opt out by notifying Historic Annapolis staff.
URL:https://www.annapolis.org/event/storytime-may2026-2/
LOCATION:William Paca House & Garden\, 186 Prince George St\, Annapolis\, MD\, 21401\, United States
CATEGORIES:For Kids,William Paca House & Garden
ATTACH;FMTTYPE=image/jpeg:https://www.annapolis.org/wp-content/uploads/2025/05/20181120_105957-scaled.jpg
END:VEVENT
END:VCALENDAR